BEGIN:VCALENDAR
VERSION:2.0
PRODID:-//Science-Dipity - ECPv6.15.10//NONSGML v1.0//EN
CALSCALE:GREGORIAN
METHOD:PUBLISH
X-ORIGINAL-URL:https://scidip.net
X-WR-CALDESC:Events for Science-Dipity
REFRESH-INTERVAL;VALUE=DURATION:PT1H
X-Robots-Tag:noindex
X-PUBLISHED-TTL:PT1H
BEGIN:VTIMEZONE
TZID:UTC
BEGIN:STANDARD
TZOFFSETFROM:+0000
TZOFFSETTO:+0000
TZNAME:UTC
DTSTART:20160101T000000
END:STANDARD
END:VTIMEZONE
BEGIN:VEVENT
DTSTART;VALUE=DATE:20170814
DTEND;VALUE=DATE:20170819
DTSTAMP:20260424T045414
CREATED:20170322T061652Z
LAST-MODIFIED:20170508T222449Z
UID:451-1502668800-1503100799@scidip.net
SUMMARY:Earth Treasures
DESCRIPTION:Mon.-Fri. 9:00 am – 12:00 pm\n\nFor GIRLS and BOYS. Join us as we explore special “ecofacts” found on earth – and how they were created. This will include tektites from outer space\, fossils\, crystals\, rocks and minerals. You’ll keep all you work with as you go on a fossil hunt\, make casts of “future fossils\,” and play will volcanic processes to make models of pumice and obsidian. You’ll also create models of sedimentary\, igneous\, and metamorphic rock. Every day\, you’ll be able to go home with Earth Treasures\, and with the understanding of how each was created. \nThis is the ESSENCE of hands-on science. Your teacher is Mr. Baker\, life-long scientist and active science educator. He teaches the way he loved to learn as a kid: by going outside and actually digging into the subject. \n\n\nMeet like-minded science kids home-schools\, private schools\, and public schools.\nWe all work together\, every child participates.\nAll the science is genuine\, authentic\, hands-on\, and often messy.\nWear clothes you’re willing to throw away.\nKeep what you make\, and make a lot!\nNutritious snacks are always served.\n\n\nREGISTER ONLINE with Paso Robles Recreation
URL:https://scidip.net/event/earth-treasures-paso-roles/
LOCATION:Paso Robles Recreation\, 600 Nickerson Drive\, Paso Robles\, CA\, 93446\, United States
CATEGORIES:Earth Treasures Camps,Science-Dipity Camps
ATTACH;FMTTYPE=image/jpeg:https://scidip.net/wp-content/uploads/2017/03/earth_treasures.jpg
END:VEVENT
BEGIN:VEVENT
DTSTART;VALUE=DATE:20170731
DTEND;VALUE=DATE:20170805
DTSTAMP:20260424T045414
CREATED:20170322T060937Z
LAST-MODIFIED:20170508T223205Z
UID:445-1501459200-1501891199@scidip.net
SUMMARY:Earth Treasures
DESCRIPTION:Mon.-Fri. 9:00 am – 12:00 pm\n\nFor GIRLS and BOYS. Join us as we explore special “ecofacts” found on earth – and how they were created. This will include tektites from outer space\, fossils\, crystals\, rocks and minerals. You’ll keep all you work with as you go on a fossil hunt\, make casts of “future fossils\,” and play will volcanic processes to make models of pumice and obsidian. You’ll also create models of sedimentary\, igneous\, and metamorphic rock. Every day\, you’ll be able to go home with Earth Treasures\, and with the understanding of how each was created. \nThis is the ESSENCE of hands-on science. Your teacher is Mr. Baker\, life-long scientist and active science educator. He teaches the way he loved to learn as a kid: by going outside and actually digging into the subject. \n\n\nMeet like-minded science kids home-schools\, private schools\, and public schools.\nWe all work together\, every child participates.\nAll the science is genuine\, authentic\, hands-on\, and often messy.\nWear clothes you’re willing to throw away.\nKeep what you make\, and make a lot!\nNutritious snacks are always served.\n\n\nREGISTER ONLINE with Visalia Parks & Recreation
URL:https://scidip.net/event/earth-treasures-visalia/
LOCATION:City of Visalia Parks & Recreation\, 345 N Jacob St\, Visalia\, CA\, 93291\, United States
CATEGORIES:Earth Treasures Camps,Science-Dipity Camps
ATTACH;FMTTYPE=image/jpeg:https://scidip.net/wp-content/uploads/2017/03/earth_treasures.jpg
END:VEVENT
END:VCALENDAR