BEGIN:VCALENDAR
VERSION:2.0
PRODID:-//Science-Dipity - ECPv6.15.10//NONSGML v1.0//EN
CALSCALE:GREGORIAN
METHOD:PUBLISH
X-WR-CALNAME:Science-Dipity
X-ORIGINAL-URL:https://scidip.net
X-WR-CALDESC:Events for Science-Dipity
REFRESH-INTERVAL;VALUE=DURATION:PT1H
X-Robots-Tag:noindex
X-PUBLISHED-TTL:PT1H
BEGIN:VTIMEZONE
TZID:UTC
BEGIN:STANDARD
TZOFFSETFROM:+0000
TZOFFSETTO:+0000
TZNAME:UTC
DTSTART:20160101T000000
END:STANDARD
END:VTIMEZONE
BEGIN:VEVENT
DTSTART;VALUE=DATE:20170814
DTEND;VALUE=DATE:20170819
DTSTAMP:20260424T025513
CREATED:20170322T061652Z
LAST-MODIFIED:20170508T222449Z
UID:451-1502668800-1503100799@scidip.net
SUMMARY:Earth Treasures
DESCRIPTION:Mon.-Fri. 9:00 am – 12:00 pm\n\nFor GIRLS and BOYS. Join us as we explore special “ecofacts” found on earth – and how they were created. This will include tektites from outer space\, fossils\, crystals\, rocks and minerals. You’ll keep all you work with as you go on a fossil hunt\, make casts of “future fossils\,” and play will volcanic processes to make models of pumice and obsidian. You’ll also create models of sedimentary\, igneous\, and metamorphic rock. Every day\, you’ll be able to go home with Earth Treasures\, and with the understanding of how each was created. \nThis is the ESSENCE of hands-on science. Your teacher is Mr. Baker\, life-long scientist and active science educator. He teaches the way he loved to learn as a kid: by going outside and actually digging into the subject. \n\n\nMeet like-minded science kids home-schools\, private schools\, and public schools.\nWe all work together\, every child participates.\nAll the science is genuine\, authentic\, hands-on\, and often messy.\nWear clothes you’re willing to throw away.\nKeep what you make\, and make a lot!\nNutritious snacks are always served.\n\n\nREGISTER ONLINE with Paso Robles Recreation
URL:https://scidip.net/event/earth-treasures-paso-roles/
LOCATION:Paso Robles Recreation\, 600 Nickerson Drive\, Paso Robles\, CA\, 93446\, United States
CATEGORIES:Earth Treasures Camps,Science-Dipity Camps
ATTACH;FMTTYPE=image/jpeg:https://scidip.net/wp-content/uploads/2017/03/earth_treasures.jpg
END:VEVENT
BEGIN:VEVENT
DTSTART;VALUE=DATE:20170731
DTEND;VALUE=DATE:20170805
DTSTAMP:20260424T025513
CREATED:20170322T060937Z
LAST-MODIFIED:20170508T223205Z
UID:445-1501459200-1501891199@scidip.net
SUMMARY:Earth Treasures
DESCRIPTION:Mon.-Fri. 9:00 am – 12:00 pm\n\nFor GIRLS and BOYS. Join us as we explore special “ecofacts” found on earth – and how they were created. This will include tektites from outer space\, fossils\, crystals\, rocks and minerals. You’ll keep all you work with as you go on a fossil hunt\, make casts of “future fossils\,” and play will volcanic processes to make models of pumice and obsidian. You’ll also create models of sedimentary\, igneous\, and metamorphic rock. Every day\, you’ll be able to go home with Earth Treasures\, and with the understanding of how each was created. \nThis is the ESSENCE of hands-on science. Your teacher is Mr. Baker\, life-long scientist and active science educator. He teaches the way he loved to learn as a kid: by going outside and actually digging into the subject. \n\n\nMeet like-minded science kids home-schools\, private schools\, and public schools.\nWe all work together\, every child participates.\nAll the science is genuine\, authentic\, hands-on\, and often messy.\nWear clothes you’re willing to throw away.\nKeep what you make\, and make a lot!\nNutritious snacks are always served.\n\n\nREGISTER ONLINE with Visalia Parks & Recreation
URL:https://scidip.net/event/earth-treasures-visalia/
LOCATION:City of Visalia Parks & Recreation\, 345 N Jacob St\, Visalia\, CA\, 93291\, United States
CATEGORIES:Earth Treasures Camps,Science-Dipity Camps
ATTACH;FMTTYPE=image/jpeg:https://scidip.net/wp-content/uploads/2017/03/earth_treasures.jpg
END:VEVENT
BEGIN:VEVENT
DTSTART;VALUE=DATE:20170724
DTEND;VALUE=DATE:20170729
DTSTAMP:20260424T025513
CREATED:20170322T055936Z
LAST-MODIFIED:20170508T223036Z
UID:435-1500854400-1501286399@scidip.net
SUMMARY:Force is with You
DESCRIPTION:Mon.-Fri. 9:00 am – 12:00 pm\n\nFor GIRLS and BOYS. This camp is for kids interested in the magic of forces. Learn how to use forces to amaze family and friends with seemingly magical artifacts that you construct and keep. Levitate a paper clip\, defy gravity\, make a dozen eggs stick to the corner of a table\, make a diver go up and down in a bottle\, and more. Harness energy and forces to make water go upside down in a cup without spilling. Learn the science behind everything you make. Complete this camp with an understanding of gravitational\, magnetic\, elastic\, thermodynamic\, and chemical energy. Also gain an understanding of buoyancy\, friction\, simple machines\, and more. The force will be with you\, as every kid participates and all are successful. \nThis is the ESSENCE of hands-on science. Your teacher is Mr. Baker\, life-long scientist and active science educator. He teaches the way he loved to learn as a kid: by going outside and actually digging into the subject. \n\n\nMeet like-minded science kids home-schools\, private schools\, and public schools.\nWe all work together\, every child participates.\nAll the science is genuine\, authentic\, hands-on\, and often messy.\nWear clothes you’re willing to throw away.\nKeep what you make\, and make a lot!\nNutritious snacks are always served.\n\n\nREGISTER ONLINE with Visalia Parks & Recreation
URL:https://scidip.net/event/force-is-with-you/
LOCATION:City of Visalia Parks & Recreation\, 345 N Jacob St\, Visalia\, CA\, 93291\, United States
CATEGORIES:Force is with You Camps,Science-Dipity Camps
ATTACH;FMTTYPE=image/jpeg:https://scidip.net/wp-content/uploads/2017/03/force_is_with_you_new.jpg
END:VEVENT
BEGIN:VEVENT
DTSTART;VALUE=DATE:20170619
DTEND;VALUE=DATE:20170624
DTSTAMP:20260424T025513
CREATED:20170322T060608Z
LAST-MODIFIED:20170508T223443Z
UID:439-1497830400-1498262399@scidip.net
SUMMARY:Electric Avenue
DESCRIPTION:Mon.-Fri. 9:00 am – 12:00 pm\n\nFor GIRLS and BOYS. Join us as we explore the fundamentals of electricity – and its counterpart – magnetism. You’ll be able to convert electricity into heat\, motion\, light\, and magnetic force. You’ll make (and keep) a Foam-Cutter\, Motor\, Play-Do Circuit\, Electromagnet\, and more. Go home each day with real scientific materials and teach your family and friends about the electromagnetic concepts you’ve learned. This is the ESSENCE of hands-on science. Your teacher is Mr. Baker\, life-long scientist and active science educator. Nutritious snacks always provided. \nThis is the ESSENCE of hands-on science. Your teacher is Mr. Baker\, life-long scientist and active science educator. He teaches the way he loved to learn as a kid: by going outside and actually digging into the subject. \n\n\nMeet like-minded science kids home-schools\, private schools\, and public schools.\nWe all work together\, every child participates.\nAll the science is genuine\, authentic\, hands-on\, and often messy.\nWear clothes you’re willing to throw away.\nKeep what you make\, and make a lot!\nNutritious snacks are always served.\n\n\nREGISTER ONLINE with Ojai Recreation Department
URL:https://scidip.net/event/electric-avenue-ojai/
LOCATION:Ojai Recreation Department\, 510 Park Rd.\, Ojai\, CA\, 93023\, United States
CATEGORIES:Electric Avenue Camps,Science-Dipity Camps
ATTACH;FMTTYPE=image/jpeg:https://scidip.net/wp-content/uploads/2017/03/electric_avenue.jpg
END:VEVENT
BEGIN:VEVENT
DTSTART;VALUE=DATE:20170605
DTEND;VALUE=DATE:20170610
DTSTAMP:20260424T025513
CREATED:20170322T040501Z
LAST-MODIFIED:20170508T222832Z
UID:392-1496620800-1497052799@scidip.net
SUMMARY:Electric Avenue
DESCRIPTION:Mon.-Fri. 9:00 am – 12:00 pm\n\nFor GIRLS and BOYS. Join us as we explore the fundamentals of electricity – and its counterpart – magnetism. You’ll be able to convert electricity into heat\, motion\, light\, and magnetic force. You’ll make (and keep) a Foam-Cutter\, Motor\, Play-Do Circuit\, Electromagnet\, and more. Go home each day with real scientific materials and teach your family and friends about the electromagnetic concepts you’ve learned. \nThis is the ESSENCE of hands-on science. Your teacher is Mr. Baker\, life-long scientist and active science educator. He teaches the way he loved to learn as a kid: by going outside and actually digging into the subject. \n\n\nMeet like-minded science kids home-schools\, private schools\, and public schools.\nWe all work together\, every child participates.\nAll the science is genuine\, authentic\, hands-on\, and often messy.\nWear clothes you’re willing to throw away.\nKeep what you make\, and make a lot!\nNutritious snacks are always served.\n\n\nREGISTER ONLINE with Visalia Parks & Recreation
URL:https://scidip.net/event/electric-avenue-visalia/
LOCATION:City of Visalia Parks & Recreation\, 345 N Jacob St\, Visalia\, CA\, 93291\, United States
CATEGORIES:Electric Avenue Camps,Science-Dipity Camps
ATTACH;FMTTYPE=image/jpeg:https://scidip.net/wp-content/uploads/2017/03/electric_avenue.jpg
END:VEVENT
END:VCALENDAR